BEGIN:VCALENDAR
VERSION:2.0
PRODID:-//Wassersportverein Bederkesa e. V. - ECPv6.15.20//NONSGML v1.0//EN
CALSCALE:GREGORIAN
METHOD:PUBLISH
X-WR-CALNAME:Wassersportverein Bederkesa e. V.
X-ORIGINAL-URL:https://wassersportverein-bederkesa.de
X-WR-CALDESC:Veranstaltungen für Wassersportverein Bederkesa e. V.
REFRESH-INTERVAL;VALUE=DURATION:PT1H
X-Robots-Tag:noindex
X-PUBLISHED-TTL:PT1H
BEGIN:VTIMEZONE
TZID:Europe/Berlin
BEGIN:DAYLIGHT
TZOFFSETFROM:+0100
TZOFFSETTO:+0200
TZNAME:CEST
DTSTART:20250330T010000
END:DAYLIGHT
BEGIN:STANDARD
TZOFFSETFROM:+0200
TZOFFSETTO:+0100
TZNAME:CET
DTSTART:20251026T010000
END:STANDARD
BEGIN:DAYLIGHT
TZOFFSETFROM:+0100
TZOFFSETTO:+0200
TZNAME:CEST
DTSTART:20260329T010000
END:DAYLIGHT
BEGIN:STANDARD
TZOFFSETFROM:+0200
TZOFFSETTO:+0100
TZNAME:CET
DTSTART:20261025T010000
END:STANDARD
BEGIN:DAYLIGHT
TZOFFSETFROM:+0100
TZOFFSETTO:+0200
TZNAME:CEST
DTSTART:20270328T010000
END:DAYLIGHT
BEGIN:STANDARD
TZOFFSETFROM:+0200
TZOFFSETTO:+0100
TZNAME:CET
DTSTART:20271031T010000
END:STANDARD
END:VTIMEZONE
BEGIN:VEVENT
DTSTART;TZID=Europe/Berlin:20260909T183000
DTEND;TZID=Europe/Berlin:20260909T183000
DTSTAMP:20260420T122716
CREATED:20251124T182153Z
LAST-MODIFIED:20251124T182153Z
UID:3313-1788978600-1788978600@wassersportverein-bederkesa.de
SUMMARY:Vorstandssitzung
DESCRIPTION:
URL:https://wassersportverein-bederkesa.de/veranstaltung/vorstandssitzung-33/
END:VEVENT
BEGIN:VEVENT
DTSTART;TZID=Europe/Berlin:20260911T173000
DTEND;TZID=Europe/Berlin:20260911T173000
DTSTAMP:20260420T122716
CREATED:20251124T182543Z
LAST-MODIFIED:20251124T182543Z
UID:3386-1789147800-1789147800@wassersportverein-bederkesa.de
SUMMARY:Drachenboot-Training
DESCRIPTION:
URL:https://wassersportverein-bederkesa.de/veranstaltung/drachenboot-training-79/
END:VEVENT
BEGIN:VEVENT
DTSTART;TZID=Europe/Berlin:20260913T000000
DTEND;TZID=Europe/Berlin:20260920T235959
DTSTAMP:20260420T122716
CREATED:20260214T145820Z
LAST-MODIFIED:20260214T145821Z
UID:3595-1789257600-1789948799@wassersportverein-bederkesa.de
SUMMARY:Kanuwandertouren in der Mecklenburgischen Seenplatte
DESCRIPTION:
URL:https://wassersportverein-bederkesa.de/veranstaltung/kanuwandertouren-in-der-mecklenburgischen-seenplatte/
END:VEVENT
BEGIN:VEVENT
DTSTART;TZID=Europe/Berlin:20260915T170000
DTEND;TZID=Europe/Berlin:20260915T170000
DTSTAMP:20260420T122716
CREATED:20251124T182427Z
LAST-MODIFIED:20251124T182427Z
UID:3359-1789491600-1789491600@wassersportverein-bederkesa.de
SUMMARY:Paddeltreff
DESCRIPTION:
URL:https://wassersportverein-bederkesa.de/veranstaltung/paddeltreff-90/
END:VEVENT
BEGIN:VEVENT
DTSTART;TZID=Europe/Berlin:20260916T180000
DTEND;TZID=Europe/Berlin:20260916T180000
DTSTAMP:20260420T122716
CREATED:20251124T182713Z
LAST-MODIFIED:20251124T182713Z
UID:3415-1789581600-1789581600@wassersportverein-bederkesa.de
SUMMARY:Segeltreff
DESCRIPTION:
URL:https://wassersportverein-bederkesa.de/veranstaltung/segeltreff-64/
END:VEVENT
BEGIN:VEVENT
DTSTART;TZID=Europe/Berlin:20260918T000000
DTEND;TZID=Europe/Berlin:20260919T235959
DTSTAMP:20260420T122716
CREATED:20260214T151000Z
LAST-MODIFIED:20260214T151121Z
UID:3599-1789689600-1789862399@wassersportverein-bederkesa.de
SUMMARY:Emden Rund
DESCRIPTION:
URL:https://wassersportverein-bederkesa.de/veranstaltung/emden-rund-3/
END:VEVENT
BEGIN:VEVENT
DTSTART;TZID=Europe/Berlin:20260918T173000
DTEND;TZID=Europe/Berlin:20260918T173000
DTSTAMP:20260420T122716
CREATED:20251124T182557Z
LAST-MODIFIED:20251124T182557Z
UID:3387-1789752600-1789752600@wassersportverein-bederkesa.de
SUMMARY:Drachenboot-Training
DESCRIPTION:
URL:https://wassersportverein-bederkesa.de/veranstaltung/drachenboot-training-80/
END:VEVENT
BEGIN:VEVENT
DTSTART;TZID=Europe/Berlin:20260919T100000
DTEND;TZID=Europe/Berlin:20260919T100000
DTSTAMP:20260420T122716
CREATED:20251124T182209Z
LAST-MODIFIED:20251124T183704Z
UID:3326-1789812000-1789812000@wassersportverein-bederkesa.de
SUMMARY:6. Arbeitsdienst
DESCRIPTION:Um Anmeldung über den Umfragelink oder den Fachwarten wird gebeten!
URL:https://wassersportverein-bederkesa.de/veranstaltung/6-arbeitsdienst-2/
END:VEVENT
BEGIN:VEVENT
DTSTART;TZID=Europe/Berlin:20260922T170000
DTEND;TZID=Europe/Berlin:20260922T170000
DTSTAMP:20260420T122716
CREATED:20251124T182428Z
LAST-MODIFIED:20251124T182428Z
UID:3360-1790096400-1790096400@wassersportverein-bederkesa.de
SUMMARY:Paddeltreff
DESCRIPTION:
URL:https://wassersportverein-bederkesa.de/veranstaltung/paddeltreff-91/
END:VEVENT
BEGIN:VEVENT
DTSTART;TZID=Europe/Berlin:20260923T180000
DTEND;TZID=Europe/Berlin:20260923T180000
DTSTAMP:20260420T122716
CREATED:20251124T182713Z
LAST-MODIFIED:20251124T182713Z
UID:3416-1790186400-1790186400@wassersportverein-bederkesa.de
SUMMARY:Segeltreff
DESCRIPTION:
URL:https://wassersportverein-bederkesa.de/veranstaltung/segeltreff-65/
END:VEVENT
BEGIN:VEVENT
DTSTART;TZID=Europe/Berlin:20260925T173000
DTEND;TZID=Europe/Berlin:20260925T173000
DTSTAMP:20260420T122716
CREATED:20251124T182557Z
LAST-MODIFIED:20251124T182557Z
UID:3388-1790357400-1790357400@wassersportverein-bederkesa.de
SUMMARY:Drachenboot-Training
DESCRIPTION:
URL:https://wassersportverein-bederkesa.de/veranstaltung/drachenboot-training-81/
END:VEVENT
BEGIN:VEVENT
DTSTART;TZID=Europe/Berlin:20260929T170000
DTEND;TZID=Europe/Berlin:20260929T170000
DTSTAMP:20260420T122716
CREATED:20251124T182428Z
LAST-MODIFIED:20251124T182428Z
UID:3361-1790701200-1790701200@wassersportverein-bederkesa.de
SUMMARY:Paddeltreff
DESCRIPTION:
URL:https://wassersportverein-bederkesa.de/veranstaltung/paddeltreff-92/
END:VEVENT
BEGIN:VEVENT
DTSTART;TZID=Europe/Berlin:20261002T173000
DTEND;TZID=Europe/Berlin:20261002T173000
DTSTAMP:20260420T122716
CREATED:20251124T182557Z
LAST-MODIFIED:20251124T182557Z
UID:3389-1790962200-1790962200@wassersportverein-bederkesa.de
SUMMARY:Drachenboot-Training
DESCRIPTION:
URL:https://wassersportverein-bederkesa.de/veranstaltung/drachenboot-training-82/
END:VEVENT
BEGIN:VEVENT
DTSTART;TZID=Europe/Berlin:20261003T100000
DTEND;TZID=Europe/Berlin:20261003T100000
DTSTAMP:20260420T122716
CREATED:20251124T182312Z
LAST-MODIFIED:20251124T182312Z
UID:3333-1791021600-1791021600@wassersportverein-bederkesa.de
SUMMARY:Abpaddeln\, -segeln\, -surfen & -rudern
DESCRIPTION:Abpaddeln\, -segeln\, -surfen & -rudern mit Picknick (Selbstverpflegung) sowie Kaffee und Kuchen am Nachmittag im Bootshaus.
URL:https://wassersportverein-bederkesa.de/veranstaltung/abpaddeln-segeln-surfen-rudern/
END:VEVENT
BEGIN:VEVENT
DTSTART;TZID=Europe/Berlin:20261006T170000
DTEND;TZID=Europe/Berlin:20261006T170000
DTSTAMP:20260420T122716
CREATED:20251124T182442Z
LAST-MODIFIED:20251124T182442Z
UID:3362-1791306000-1791306000@wassersportverein-bederkesa.de
SUMMARY:Paddeltreff
DESCRIPTION:
URL:https://wassersportverein-bederkesa.de/veranstaltung/paddeltreff-93/
END:VEVENT
BEGIN:VEVENT
DTSTART;TZID=Europe/Berlin:20261007T183000
DTEND;TZID=Europe/Berlin:20261007T183000
DTSTAMP:20260420T122716
CREATED:20251124T182153Z
LAST-MODIFIED:20251124T182153Z
UID:3314-1791397800-1791397800@wassersportverein-bederkesa.de
SUMMARY:Vorstandssitzung
DESCRIPTION:
URL:https://wassersportverein-bederkesa.de/veranstaltung/vorstandssitzung-34/
END:VEVENT
BEGIN:VEVENT
DTSTART;TZID=Europe/Berlin:20261009T173000
DTEND;TZID=Europe/Berlin:20261009T173000
DTSTAMP:20260420T122716
CREATED:20251124T182558Z
LAST-MODIFIED:20251124T182558Z
UID:3390-1791567000-1791567000@wassersportverein-bederkesa.de
SUMMARY:Drachenboot-Training
DESCRIPTION:
URL:https://wassersportverein-bederkesa.de/veranstaltung/drachenboot-training-83/
END:VEVENT
BEGIN:VEVENT
DTSTART;TZID=Europe/Berlin:20261010T100000
DTEND;TZID=Europe/Berlin:20261010T100000
DTSTAMP:20260420T122716
CREATED:20251124T182223Z
LAST-MODIFIED:20251124T184032Z
UID:3327-1791626400-1791626400@wassersportverein-bederkesa.de
SUMMARY:7. Arbeitsdienst & Bootseinlagerung
DESCRIPTION:Um Anmeldung über den Umfragelink oder den Fachwarten wird gebeten! \nAnwesenheit der Bootseigner zwingend notwendig!
URL:https://wassersportverein-bederkesa.de/veranstaltung/7-arbeitsdienst-bootseinlagerung-2/
END:VEVENT
BEGIN:VEVENT
DTSTART;TZID=Europe/Berlin:20261013T170000
DTEND;TZID=Europe/Berlin:20261013T170000
DTSTAMP:20260420T122716
CREATED:20251124T182442Z
LAST-MODIFIED:20251124T182442Z
UID:3363-1791910800-1791910800@wassersportverein-bederkesa.de
SUMMARY:Paddeltreff
DESCRIPTION:
URL:https://wassersportverein-bederkesa.de/veranstaltung/paddeltreff-94/
END:VEVENT
BEGIN:VEVENT
DTSTART;TZID=Europe/Berlin:20261016T173000
DTEND;TZID=Europe/Berlin:20261016T173000
DTSTAMP:20260420T122716
CREATED:20251124T182558Z
LAST-MODIFIED:20251124T182558Z
UID:3391-1792171800-1792171800@wassersportverein-bederkesa.de
SUMMARY:Drachenboot-Training
DESCRIPTION:
URL:https://wassersportverein-bederkesa.de/veranstaltung/drachenboot-training-84/
END:VEVENT
BEGIN:VEVENT
DTSTART;TZID=Europe/Berlin:20261020T170000
DTEND;TZID=Europe/Berlin:20261020T170000
DTSTAMP:20260420T122716
CREATED:20251124T182442Z
LAST-MODIFIED:20251124T182442Z
UID:3364-1792515600-1792515600@wassersportverein-bederkesa.de
SUMMARY:Paddeltreff
DESCRIPTION:
URL:https://wassersportverein-bederkesa.de/veranstaltung/paddeltreff-95/
END:VEVENT
BEGIN:VEVENT
DTSTART;TZID=Europe/Berlin:20261023T173000
DTEND;TZID=Europe/Berlin:20261023T173000
DTSTAMP:20260420T122716
CREATED:20251124T182612Z
LAST-MODIFIED:20251124T182612Z
UID:3392-1792776600-1792776600@wassersportverein-bederkesa.de
SUMMARY:Drachenboot-Training
DESCRIPTION:
URL:https://wassersportverein-bederkesa.de/veranstaltung/drachenboot-training-85/
END:VEVENT
BEGIN:VEVENT
DTSTART;TZID=Europe/Berlin:20261107T100000
DTEND;TZID=Europe/Berlin:20261107T100000
DTSTAMP:20260420T122716
CREATED:20251124T182223Z
LAST-MODIFIED:20251124T183806Z
UID:3328-1794045600-1794045600@wassersportverein-bederkesa.de
SUMMARY:8. Arbeitsdienst
DESCRIPTION:Um Anmeldung über den Umfragelink oder den Fachwarten wird gebeten!
URL:https://wassersportverein-bederkesa.de/veranstaltung/8-arbeitsdienst/
END:VEVENT
BEGIN:VEVENT
DTSTART;TZID=Europe/Berlin:20261114T163000
DTEND;TZID=Europe/Berlin:20261114T163000
DTSTAMP:20260420T122716
CREATED:20251124T182313Z
LAST-MODIFIED:20251124T182313Z
UID:3334-1794673800-1794673800@wassersportverein-bederkesa.de
SUMMARY:Herbstmitgliederversammlung
DESCRIPTION:Weitere Informationen folgen
URL:https://wassersportverein-bederkesa.de/veranstaltung/herbstmitgliederversammlung-4/
END:VEVENT
BEGIN:VEVENT
DTSTART;TZID=Europe/Berlin:20261125T183000
DTEND;TZID=Europe/Berlin:20261125T183000
DTSTAMP:20260420T122716
CREATED:20251124T182153Z
LAST-MODIFIED:20251124T182153Z
UID:3315-1795631400-1795631400@wassersportverein-bederkesa.de
SUMMARY:Vorstandssitzung
DESCRIPTION:
URL:https://wassersportverein-bederkesa.de/veranstaltung/vorstandssitzung-35/
END:VEVENT
BEGIN:VEVENT
DTSTART;TZID=Europe/Berlin:20261128T190000
DTEND;TZID=Europe/Berlin:20261128T190000
DTSTAMP:20260420T122716
CREATED:20251124T182313Z
LAST-MODIFIED:20251124T182313Z
UID:3335-1795892400-1795892400@wassersportverein-bederkesa.de
SUMMARY:Weihnachtsfeier
DESCRIPTION:Es wird ein gemütliches Beisammensein mit Getränken und kleinen weihnachtlichen Süßigkeiten stattfinden; weitere Informationen folgen.
URL:https://wassersportverein-bederkesa.de/veranstaltung/weihnachtsfeier-4/
END:VEVENT
END:VCALENDAR